BEGIN:VCALENDAR
VERSION:2.0
PRODID:-//ZContent.net//ZapCalLib 1.0//EN
CALSCALE:GREGORIAN
METHOD:PUBLISH
BEGIN:VEVENT
SUMMARY:Über-Leben – Handeln in Freiheit (fällt aus!) | Veranstaltung d
 es Vereins Hannah-Ahrendt-Preis für politisches Denken e.V.
DTSTART:20211015T180000
DTEND:20211015T200000
UID:2026-04-21-14-22-00-0-@calendar.boell.de
DTSTAMP:20260421T122200
DESCRIPTION:▶ Siehe Veranstaltungsbeschreibung – Bremen – Landesstift
 ung Bremen
END:VEVENT
END:VCALENDAR
