BEGIN:VCALENDAR
VERSION:2.0
PRODID:-//ZContent.net//ZapCalLib 1.0//EN
CALSCALE:GREGORIAN
METHOD:PUBLISH
BEGIN:VEVENT
SUMMARY:Lust auf einen Spitzen-Job? - ausgebucht | Aufgaben und Kompetenzen
  von (Ober-) Bürgermeister*in, Landrät*in, Regierungspräsident*in
DTSTART:20220303T160000
DTEND:20220305T170000
UID:2026-04-23-21-51-03-0-@calendar.boell.de
DTSTAMP:20260423T195103
DESCRIPTION:▶ Siehe Veranstaltungsbeschreibung – Heinrich Böll Stiftun
 g Baden-Württemberg
END:VEVENT
END:VCALENDAR
