BEGIN:VCALENDAR
VERSION:2.0
PRODID:-//ZContent.net//ZapCalLib 1.0//EN
CALSCALE:GREGORIAN
METHOD:PUBLISH
BEGIN:VEVENT
SUMMARY:Asylinitiativenkonferenz 2021 | #Vernetzen #Organisieren #Handeln
DTSTART:20211106T093000
DTEND:20211106T164500
UID:2026-04-25-01-01-59-0-@calendar.boell.de
DTSTAMP:20260424T230159
DESCRIPTION:▶ Online-Veranstaltung – Landesstiftung Sachsen (Weiterdenk
 en)
END:VEVENT
END:VCALENDAR
