BEGIN:VCALENDAR
VERSION:2.0
PRODID:-//ZContent.net//ZapCalLib 1.0//EN
CALSCALE:GREGORIAN
METHOD:PUBLISH
BEGIN:VEVENT
SUMMARY:Baurecht vertieft – konkrete Instrumente:  | Vorhabenbezogener Be
 bauungsplan, Städtebauliche Verträge und bauordnungsrechtliche Satzungen
  (unter besonderer Beachtung der Klimaanpassung)
DTSTART:20211123T190000
DTEND:20211123T210000
UID:2026-04-21-15-23-05-0-@calendar.boell.de
DTSTAMP:20260421T132305
DESCRIPTION:▶ Online-Veranstaltung – Petra-Kelly-Stiftung
END:VEVENT
END:VCALENDAR
