BEGIN:VCALENDAR
VERSION:2.0
PRODID:-//ZContent.net//ZapCalLib 1.0//EN
CALSCALE:GREGORIAN
METHOD:PUBLISH
BEGIN:VEVENT
SUMMARY:Sozialgerechte Bodennutzung in a nutshell | Wie Sie als Gemeinde In
 frastruktur, soziale Mischung und Grünflächen für Ihre Neubaugebiete ab
 sichern
DTSTART:20211116T190000
DTEND:20211116T210000
UID:2026-04-21-10-08-26-0-@calendar.boell.de
DTSTAMP:20260421T080826
DESCRIPTION:▶ Online-Veranstaltung – Petra-Kelly-Stiftung
END:VEVENT
END:VCALENDAR
