BEGIN:VCALENDAR
VERSION:2.0
PRODID:-//ZContent.net//ZapCalLib 1.0//EN
CALSCALE:GREGORIAN
METHOD:PUBLISH
BEGIN:VEVENT
SUMMARY:Klimaneutrale Neubaugebiete! Aber wie?
DTSTART:20211130T190000
DTEND:20211130T210000
UID:2026-04-22-04-06-37-0-@calendar.boell.de
DTSTAMP:20260422T020637
DESCRIPTION:▶ Online-Veranstaltung – Petra-Kelly-Stiftung
END:VEVENT
END:VCALENDAR
