BEGIN:VCALENDAR
VERSION:2.0
PRODID:-//ZContent.net//ZapCalLib 1.0//EN
CALSCALE:GREGORIAN
METHOD:PUBLISH
BEGIN:VEVENT
SUMMARY:Der arabische Frühling – die Hintergründe und ihre Folgen | Die
 smal: Tunesien und der Libanon
DTSTART:20210914T170000
DTEND:20210914T180000
UID:2026-04-21-15-23-08-0-@calendar.boell.de
DTSTAMP:20260421T132308
DESCRIPTION:▶ Siehe Veranstaltungsbeschreibung – Petra-Kelly-Stiftung
END:VEVENT
END:VCALENDAR
