BEGIN:VCALENDAR
VERSION:2.0
PRODID:-//ZContent.net//ZapCalLib 1.0//EN
CALSCALE:GREGORIAN
METHOD:PUBLISH
BEGIN:VEVENT
SUMMARY:Plastische Demokratie. Die Formen des Wir | Im Rahmen von "beuys 20
 21. 100 jahre joseph beuys"
DTSTART:20210827T190000
DTEND:20210828T200000
UID:2026-04-25-14-43-19-0-@calendar.boell.de
DTSTAMP:20260425T124319
DESCRIPTION:▶ Siehe Veranstaltungsbeschreibung – Düsseldorf – Extern
 e Veranstaltung
END:VEVENT
END:VCALENDAR
