BEGIN:VCALENDAR
VERSION:2.0
PRODID:-//ZContent.net//ZapCalLib 1.0//EN
CALSCALE:GREGORIAN
METHOD:PUBLISH
BEGIN:VEVENT
SUMMARY:(Münchner) Schieflagen: Wohnungslos in Zeiten der Pandemie 
DTSTART:20211123T180000
DTEND:20211123T193000
UID:2026-04-21-15-22-55-0-@calendar.boell.de
DTSTAMP:20260421T132255
DESCRIPTION:▶ Siehe Veranstaltungsbeschreibung – München – Petra-Kel
 ly-Stiftung
END:VEVENT
END:VCALENDAR
