BEGIN:VCALENDAR
VERSION:2.0
PRODID:-//ZContent.net//ZapCalLib 1.0//EN
CALSCALE:GREGORIAN
METHOD:PUBLISH
BEGIN:VEVENT
SUMMARY:Climate (In)Justice - Voices from Indigenous Struggles in South Asi
 a | Ein Vortrag mit Yi Yi Prue über Klimagerechtigkeit und die Vielschich
 tigkeit der Krise
DTSTART:20210914T180000
DTEND:20210914T200000
UID:2026-04-21-19-59-48-0-@calendar.boell.de
DTSTAMP:20260421T175948
DESCRIPTION:▶ Siehe Veranstaltungsbeschreibung – Halle (Saale) – Land
 esstiftung Sachsen-Anhalt
END:VEVENT
END:VCALENDAR
