BEGIN:VCALENDAR
VERSION:2.0
PRODID:-//ZContent.net//ZapCalLib 1.0//EN
CALSCALE:GREGORIAN
METHOD:PUBLISH
BEGIN:VEVENT
SUMMARY:Stadtspaziergang: Hinterhöfe der Bremer Innenstadt | Veranstaltung
  zur Europäischen Mobilitätswoche 2021 
DTSTART:20210917T170000
DTEND:20210917T190000
UID:2026-04-21-19-14-14-0-@calendar.boell.de
DTSTAMP:20260421T171414
DESCRIPTION:▶ Siehe Veranstaltungsbeschreibung – Bremen – Landesstift
 ung Bremen
END:VEVENT
END:VCALENDAR
