BEGIN:VCALENDAR
VERSION:2.0
PRODID:-//ZContent.net//ZapCalLib 1.0//EN
CALSCALE:GREGORIAN
METHOD:PUBLISH
BEGIN:VEVENT
SUMMARY:Schulfront - Ein Film von Luca De Sousa Oliveira, Elisabeth Sauterl
 aute & Lion Sauterleute  | Ein Film aus dem Kurzfilmprojekt Neue NormalitÃ
 ¤t. Leben in der Pandemie.
DTSTART:20211007T190000
DTEND:20211007T203000
UID:2026-04-19-19-17-54-0-@calendar.boell.de
DTSTAMP:20260419T171754
DESCRIPTION:â–¶ Online-Veranstaltung â€“ Heinrich BÃ¶ll Stiftung Baden-WÃ¼r
 ttemberg
END:VEVENT
END:VCALENDAR
