BEGIN:VCALENDAR
VERSION:2.0
PRODID:-//ZContent.net//ZapCalLib 1.0//EN
CALSCALE:GREGORIAN
METHOD:PUBLISH
BEGIN:VEVENT
SUMMARY:Online-Weiterbildung: Virtuelle Veranstaltungen konzipieren und mod
 erieren (Warteliste)
DTSTART:20220510T170000
DTEND:20220510T190000
UID:2026-04-23-04-54-15-0-@calendar.boell.de
DTSTAMP:20260423T025415
DESCRIPTION:▶ Online-Veranstaltung – GreenCampus
END:VEVENT
END:VCALENDAR
