BEGIN:VCALENDAR
VERSION:2.0
PRODID:-//ZContent.net//ZapCalLib 1.0//EN
CALSCALE:GREGORIAN
METHOD:PUBLISH
BEGIN:VEVENT
SUMMARY:Runder Tisch Brasilien 2021 | Kampf gegen soziale Ungleichheit in d
 er Pandemie
DTSTART:20211126T180000
DTEND:20211126T220000
UID:2026-04-20-02-53-04-0-@calendar.boell.de
DTSTAMP:20260420T005304
DESCRIPTION:▶ Online-Veranstaltung – Heinrich-Böll-Stiftung - Bundesst
 iftung Berlin
END:VEVENT
END:VCALENDAR
