BEGIN:VCALENDAR
VERSION:2.0
PRODID:-//ZContent.net//ZapCalLib 1.0//EN
CALSCALE:GREGORIAN
METHOD:PUBLISH
BEGIN:VEVENT
SUMMARY:BÖLL-Montagskino zur Seenotrettung: Route 4 | Film & Gespräch mit
  Kapitänin Bärbel Beuse
DTSTART:20211129T190000
DTEND:20211129T210000
UID:2026-04-21-21-08-46-0-@calendar.boell.de
DTSTAMP:20260421T190846
DESCRIPTION:▶ Siehe Veranstaltungsbeschreibung – Rostock – Landesstif
 tung Mecklenburg-Vorpommern
END:VEVENT
END:VCALENDAR
