BEGIN:VCALENDAR
VERSION:2.0
PRODID:-//ZContent.net//ZapCalLib 1.0//EN
CALSCALE:GREGORIAN
METHOD:PUBLISH
BEGIN:VEVENT
SUMMARY:Gegenargument online - Hate Speech widersprechen (Warteliste)
DTSTART:20221102T180000
DTEND:20221102T200000
UID:2026-04-21-21-08-56-0-@calendar.boell.de
DTSTAMP:20260421T190856
DESCRIPTION:▶ Online-Veranstaltung – GreenCampus
END:VEVENT
END:VCALENDAR
