BEGIN:VCALENDAR
VERSION:2.0
PRODID:-//ZContent.net//ZapCalLib 1.0//EN
CALSCALE:GREGORIAN
METHOD:PUBLISH
BEGIN:VEVENT
SUMMARY:Online: RESSENTIMENTS UND RECHTE MASSENBEWEGUNGEN  | Tastende Blick
 e in Vergangenheit und Gegenwart
DTSTART:20211127T100000
DTEND:20211127T123000
UID:2026-04-19-14-38-44-0-@calendar.boell.de
DTSTAMP:20260419T123844
DESCRIPTION:▶ Online-Veranstaltung – Hannover – Stiftung Leben & Umwe
 lt / Heinrich-Böll-Stiftung Niedersachsen
END:VEVENT
END:VCALENDAR
