BEGIN:VCALENDAR
VERSION:2.0
PRODID:-//ZContent.net//ZapCalLib 1.0//EN
CALSCALE:GREGORIAN
METHOD:PUBLISH
BEGIN:VEVENT
SUMMARY:Online-Weiterbildung: Agile Methoden kennenlernen (Warteliste)
DTSTART:20221116T100000
DTEND:20221116T113000
UID:2026-04-23-09-21-32-0-@calendar.boell.de
DTSTAMP:20260423T072132
DESCRIPTION:▶ Online-Veranstaltung – GreenCampus
END:VEVENT
END:VCALENDAR
