BEGIN:VCALENDAR
VERSION:2.0
PRODID:-//ZContent.net//ZapCalLib 1.0//EN
CALSCALE:GREGORIAN
METHOD:PUBLISH
BEGIN:VEVENT
SUMMARY:Filmreihe: Iran Through Different Lenses
DTSTART:20211112T173000
DTEND:20211114T220000
UID:2026-04-25-00-01-01-0-@calendar.boell.de
DTSTAMP:20260424T220101
DESCRIPTION:▶ Siehe Veranstaltungsbeschreibung – Berlin – Externe Ver
 anstaltung
END:VEVENT
END:VCALENDAR
