BEGIN:VCALENDAR
VERSION:2.0
PRODID:-//ZContent.net//ZapCalLib 1.0//EN
CALSCALE:GREGORIAN
METHOD:PUBLISH
BEGIN:VEVENT
SUMMARY:Verschoben auf 2022! Make Rojava Green Again
DTSTART:20211130T190000
DTEND:20211130T203000
UID:2026-04-21-11-34-20-0-@calendar.boell.de
DTSTAMP:20260421T093420
DESCRIPTION:▶ Siehe Veranstaltungsbeschreibung – Rostock – Landesstif
 tung Mecklenburg-Vorpommern
END:VEVENT
END:VCALENDAR
