BEGIN:VCALENDAR
VERSION:2.0
PRODID:-//ZContent.net//ZapCalLib 1.0//EN
CALSCALE:GREGORIAN
METHOD:PUBLISH
BEGIN:VEVENT
SUMMARY:ABGESAGT! Naturliebe und Menschenhass | Völkische Siedler*innen im
  Landkreis Miltenberg
DTSTART:20211206T180000
DTEND:20211206T193000
UID:2026-04-21-20-00-03-0-@calendar.boell.de
DTSTAMP:20260421T180003
DESCRIPTION:▶ Siehe Veranstaltungsbeschreibung – Petra-Kelly-Stiftung
END:VEVENT
END:VCALENDAR
