BEGIN:VCALENDAR
VERSION:2.0
PRODID:-//ZContent.net//ZapCalLib 1.0//EN
CALSCALE:GREGORIAN
METHOD:PUBLISH
BEGIN:VEVENT
SUMMARY:ABGESAGT: Daten und Fakten über einen globalen Brennstoff | Vorste
 llung des Kohleatlas
DTSTART:20211125T190000
DTEND:20211125T203000
UID:2026-04-21-19-13-59-0-@calendar.boell.de
DTSTAMP:20260421T171359
DESCRIPTION:▶ Siehe Veranstaltungsbeschreibung – Landesstiftung Sachsen
  (Weiterdenken)
END:VEVENT
END:VCALENDAR
