BEGIN:VCALENDAR
VERSION:2.0
PRODID:-//ZContent.net//ZapCalLib 1.0//EN
CALSCALE:GREGORIAN
METHOD:PUBLISH
BEGIN:VEVENT
SUMMARY:How militarised is the EU’s foreign policy? | Online-Seminar
DTSTART:20211117T150000
DTEND:20211117T160000
UID:2026-04-22-03-02-07-0-@calendar.boell.de
DTSTAMP:20260422T010207
DESCRIPTION:▶ Online-Veranstaltung – Externe Veranstaltung
END:VEVENT
END:VCALENDAR
