BEGIN:VCALENDAR
VERSION:2.0
PRODID:-//ZContent.net//ZapCalLib 1.0//EN
CALSCALE:GREGORIAN
METHOD:PUBLISH
BEGIN:VEVENT
SUMMARY:Vorurteile - Macht - Diskriminierung?  Anti-Bias-Seminar | Modulrei
 he
DTSTART:20210910T100000
DTEND:20211106T170000
UID:2026-04-21-19-13-58-0-@calendar.boell.de
DTSTAMP:20260421T171358
DESCRIPTION:▶ Siehe Veranstaltungsbeschreibung – Landesstiftung Berlin 
 (Bildungswerk)
END:VEVENT
END:VCALENDAR
