BEGIN:VCALENDAR
VERSION:2.0
PRODID:-//ZContent.net//ZapCalLib 1.0//EN
CALSCALE:GREGORIAN
METHOD:PUBLISH
BEGIN:VEVENT
SUMMARY:Ökologie von rechts - Von der deutschen Nationalromantik bis zur A
 fD | Aus dem Dossier Rechtspopulismus in Baden-Württemberg
DTSTART:20211208T173000
DTEND:20211208T190000
UID:2026-04-20-03-21-40-0-@calendar.boell.de
DTSTAMP:20260420T012140
DESCRIPTION:▶ Siehe Veranstaltungsbeschreibung – Heinrich Böll Stiftun
 g Baden-Württemberg
END:VEVENT
END:VCALENDAR
