BEGIN:VCALENDAR
VERSION:2.0
PRODID:-//ZContent.net//ZapCalLib 1.0//EN
CALSCALE:GREGORIAN
METHOD:PUBLISH
BEGIN:VEVENT
SUMMARY:BÖLL-Montagskino: Picture a Scientist
DTSTART:20211206T190000
DTEND:20211206T211500
UID:2026-04-23-04-24-59-0-@calendar.boell.de
DTSTAMP:20260423T022459
DESCRIPTION:▶ Siehe Veranstaltungsbeschreibung – Rostock – Landesstif
 tung Mecklenburg-Vorpommern
END:VEVENT
END:VCALENDAR
