BEGIN:VCALENDAR
VERSION:2.0
PRODID:-//ZContent.net//ZapCalLib 1.0//EN
CALSCALE:GREGORIAN
METHOD:PUBLISH
BEGIN:VEVENT
SUMMARY:Nächste Generation Bundesbank | Wechsel an der Spitze: Kann die Bu
 ndesbank ihre Aufgaben in Zeiten von Klimawandel und Finanzglobalisierung 
 neu definieren?
DTSTART:20211129T120000
DTEND:20211129T130000
UID:2026-04-21-15-22-27-0-@calendar.boell.de
DTSTAMP:20260421T132227
DESCRIPTION:▶ Siehe Veranstaltungsbeschreibung – Externe Veranstaltung
END:VEVENT
END:VCALENDAR
