BEGIN:VCALENDAR
VERSION:2.0
PRODID:-//ZContent.net//ZapCalLib 1.0//EN
CALSCALE:GREGORIAN
METHOD:PUBLISH
BEGIN:VEVENT
SUMMARY:Humanity Empowered: Building Resilience with AI | Aspen Berlin Konf
 erenz über Künstliche Intelligenz
DTSTART:20211202T093000
DTEND:20211202T183000
UID:2026-04-23-11-15-18-0-@calendar.boell.de
DTSTAMP:20260423T091518
DESCRIPTION:▶ Siehe Veranstaltungsbeschreibung – Berlin – Externe Ver
 anstaltung
END:VEVENT
END:VCALENDAR
