BEGIN:VCALENDAR
VERSION:2.0
PRODID:-//ZContent.net//ZapCalLib 1.0//EN
CALSCALE:GREGORIAN
METHOD:PUBLISH
BEGIN:VEVENT
SUMMARY:Schlaglicht: Wie reagiere ich auf rassistische Äußerungen? | Schr
 ecksekunde überwinden - gekonnt antworten.
DTSTART:20220120T170000
DTEND:20220120T203000
UID:2026-04-19-21-02-27-0-@calendar.boell.de
DTSTAMP:20260419T190227
DESCRIPTION:▶ Siehe Veranstaltungsbeschreibung – Landesstiftung Nordrhe
 in-Westfalen
END:VEVENT
END:VCALENDAR
