BEGIN:VCALENDAR
VERSION:2.0
PRODID:-//ZContent.net//ZapCalLib 1.0//EN
CALSCALE:GREGORIAN
METHOD:PUBLISH
BEGIN:VEVENT
SUMMARY:Schlaglicht: Wie werde ich sichtbar im Internet? | Grundlagen des S
 EO verstehen.
DTSTART:20220324T090000
DTEND:20220324T123000
UID:2026-04-19-23-55-19-0-@calendar.boell.de
DTSTAMP:20260419T215519
DESCRIPTION:▶ Siehe Veranstaltungsbeschreibung – Düsseldorf – Landes
 stiftung Nordrhein-Westfalen
END:VEVENT
END:VCALENDAR
