BEGIN:VCALENDAR
VERSION:2.0
PRODID:-//ZContent.net//ZapCalLib 1.0//EN
CALSCALE:GREGORIAN
METHOD:PUBLISH
BEGIN:VEVENT
SUMMARY:Schlaglicht: Wie erstelle ich einen guten Facebook-Post? | Reichwei
 te und Reaktionen erzeugen
DTSTART:20220325T140000
DTEND:20220325T173000
UID:2026-04-21-11-34-29-0-@calendar.boell.de
DTSTAMP:20260421T093429
DESCRIPTION:▶ Siehe Veranstaltungsbeschreibung – Düsseldorf – Landes
 stiftung Nordrhein-Westfalen
END:VEVENT
END:VCALENDAR
