BEGIN:VCALENDAR
VERSION:2.0
PRODID:-//ZContent.net//ZapCalLib 1.0//EN
CALSCALE:GREGORIAN
METHOD:PUBLISH
BEGIN:VEVENT
SUMMARY:Schlaglicht: Wie finde ich finanzielle Unterstützer*innen? | Durch
  Spenden das eigene Engagement finanzieren.
DTSTART:20220324T160000
DTEND:20220324T193000
UID:2026-04-21-10-08-45-0-@calendar.boell.de
DTSTAMP:20260421T080845
DESCRIPTION:▶ Siehe Veranstaltungsbeschreibung – Düsseldorf – Landes
 stiftung Nordrhein-Westfalen
END:VEVENT
END:VCALENDAR
