BEGIN:VCALENDAR
VERSION:2.0
PRODID:-//ZContent.net//ZapCalLib 1.0//EN
CALSCALE:GREGORIAN
METHOD:PUBLISH
BEGIN:VEVENT
SUMMARY:Schlaglicht: Wie reagiere ich auf Klimawandelleugner*innen? | Schre
 cksekunde überwinden - gekonnt antworten.
DTSTART:20220407T170000
DTEND:20220407T203000
UID:2026-04-19-18-56-07-0-@calendar.boell.de
DTSTAMP:20260419T165607
DESCRIPTION:▶ Siehe Veranstaltungsbeschreibung – Düsseldorf – Landes
 stiftung Nordrhein-Westfalen
END:VEVENT
END:VCALENDAR
