BEGIN:VCALENDAR
VERSION:2.0
PRODID:-//ZContent.net//ZapCalLib 1.0//EN
CALSCALE:GREGORIAN
METHOD:PUBLISH
BEGIN:VEVENT
SUMMARY:Wer macht Macht? | Austausch zu Critical Whiteness, Empowerment und
  Antirassismus
DTSTART:20220211T140000
DTEND:20220213T200000
UID:2026-04-21-22-26-59-0-@calendar.boell.de
DTSTAMP:20260421T202659
DESCRIPTION:▶ Siehe Veranstaltungsbeschreibung – Berlin – Landesstift
 ung Berlin (Bildungswerk)
END:VEVENT
END:VCALENDAR
