BEGIN:VCALENDAR
VERSION:2.0
PRODID:-//ZContent.net//ZapCalLib 1.0//EN
CALSCALE:GREGORIAN
METHOD:PUBLISH
BEGIN:VEVENT
SUMMARY:Anecken, Ausgrenzen, Aufräumen - Das junge Rechtsaußenspektrum | 
 Fit-for-Politics-Online-Seminar mit Vincent Knopp
DTSTART:20220507T100000
DTEND:20220507T183000
UID:2026-04-21-13-56-59-0-@calendar.boell.de
DTSTAMP:20260421T115659
DESCRIPTION:▶ Online-Veranstaltung – Stiftung Leben & Umwelt / Heinrich
 -Böll-Stiftung Niedersachsen
END:VEVENT
END:VCALENDAR
