BEGIN:VCALENDAR
VERSION:2.0
PRODID:-//ZContent.net//ZapCalLib 1.0//EN
CALSCALE:GREGORIAN
METHOD:PUBLISH
BEGIN:VEVENT
SUMMARY:Ernst Paul Dörfler: Aufs Land?! | Buchvorstellung und Gespräch in
  der Stadtbibliothek Bremen
DTSTART:20220311T180000
DTEND:20220311T200000
UID:2026-04-22-03-02-05-0-@calendar.boell.de
DTSTAMP:20260422T010205
DESCRIPTION:▶ Siehe Veranstaltungsbeschreibung – Landesstiftung Bremen
END:VEVENT
END:VCALENDAR
