BEGIN:VCALENDAR
VERSION:2.0
PRODID:-//ZContent.net//ZapCalLib 1.0//EN
CALSCALE:GREGORIAN
METHOD:PUBLISH
BEGIN:VEVENT
SUMMARY:La Fabrique Défense  | Grande Halle de la Villette 
DTSTART:20220128T100000
DTEND:20220130T180000
UID:2026-04-22-03-02-11-0-@calendar.boell.de
DTSTAMP:20260422T010211
DESCRIPTION:▶ Siehe Veranstaltungsbeschreibung – Paris – 
END:VEVENT
END:VCALENDAR
