BEGIN:VCALENDAR
VERSION:2.0
PRODID:-//ZContent.net//ZapCalLib 1.0//EN
CALSCALE:GREGORIAN
METHOD:PUBLISH
BEGIN:VEVENT
SUMMARY:Der Konflikt um die Sprache | Wie geschlechtergerecht darf sie sein
 ? 
DTSTART:20220214T190000
DTEND:20220214T210000
UID:2026-04-22-03-01-59-0-@calendar.boell.de
DTSTAMP:20260422T010159
DESCRIPTION:▶ Online-Veranstaltung – Hamburg – Landesstiftung Hamburg
END:VEVENT
END:VCALENDAR
