BEGIN:VCALENDAR
VERSION:2.0
PRODID:-//ZContent.net//ZapCalLib 1.0//EN
CALSCALE:GREGORIAN
METHOD:PUBLISH
BEGIN:VEVENT
SUMMARY:Ausstellung „Frauen, die Mecklenburg-Vorpommern bewegen“
DTSTART:20220404T100000
DTEND:20220429T160000
UID:2026-04-19-18-43-49-0-@calendar.boell.de
DTSTAMP:20260419T164349
DESCRIPTION:▶ Siehe Veranstaltungsbeschreibung – Landesstiftung Mecklen
 burg-Vorpommern
END:VEVENT
END:VCALENDAR
