BEGIN:VCALENDAR
VERSION:2.0
PRODID:-//ZContent.net//ZapCalLib 1.0//EN
CALSCALE:GREGORIAN
METHOD:PUBLISH
BEGIN:VEVENT
SUMMARY:CRASH |  Roman | Susanne Saygin
DTSTART:20220328T200000
DTEND:20220328T220000
UID:2026-04-21-21-09-26-0-@calendar.boell.de
DTSTAMP:20260421T190926
DESCRIPTION:▶ Siehe Veranstaltungsbeschreibung – Stuttgart – Heinrich
  Böll Stiftung Baden-Württemberg
END:VEVENT
END:VCALENDAR
