BEGIN:VCALENDAR
VERSION:2.0
PRODID:-//ZContent.net//ZapCalLib 1.0//EN
CALSCALE:GREGORIAN
METHOD:PUBLISH
BEGIN:VEVENT
SUMMARY:Der Pakt fürs Zusammenleben | Wie Verantwortungsgemeinschaften rec
 htlich abgesichert werden können 
DTSTART:20220310T150000
DTEND:20220310T163000
UID:2026-04-21-23-53-50-0-@calendar.boell.de
DTSTAMP:20260421T215350
DESCRIPTION:▶ Online-Veranstaltung – Heinrich-Böll-Stiftung - Bundesst
 iftung Berlin
END:VEVENT
END:VCALENDAR
