BEGIN:VCALENDAR
VERSION:2.0
PRODID:-//ZContent.net//ZapCalLib 1.0//EN
CALSCALE:GREGORIAN
METHOD:PUBLISH
BEGIN:VEVENT
SUMMARY:Kurzworkshop: (Digitale) Panelmoderation
DTSTART:20220308T170000
DTEND:20220308T200000
UID:2026-04-21-23-40-50-0-@calendar.boell.de
DTSTAMP:20260421T214050
DESCRIPTION:▶ Siehe Veranstaltungsbeschreibung – Landesstiftung Rheinla
 nd-Pfalz
END:VEVENT
END:VCALENDAR
