BEGIN:VCALENDAR
VERSION:2.0
PRODID:-//ZContent.net//ZapCalLib 1.0//EN
CALSCALE:GREGORIAN
METHOD:PUBLISH
BEGIN:VEVENT
SUMMARY:Benefizkonzert der Neuen Philharmonie für Kolibri
DTSTART:20220307T200000
DTEND:20220307T200000
UID:2026-04-21-15-23-07-0-@calendar.boell.de
DTSTAMP:20260421T132307
DESCRIPTION:▶ Siehe Veranstaltungsbeschreibung – München – 
END:VEVENT
END:VCALENDAR
