BEGIN:VCALENDAR
VERSION:2.0
PRODID:-//ZContent.net//ZapCalLib 1.0//EN
CALSCALE:GREGORIAN
METHOD:PUBLISH
BEGIN:VEVENT
SUMMARY:SOFIES MIND*TRUCK - ImBiss der Wahrheit | Theater und Diskussion ü
 ber Verschwörungsmythen in Zeiten der Corona-Proteste
DTSTART:20220629T190000
DTEND:20220629T210000
UID:2026-04-21-15-22-48-0-@calendar.boell.de
DTSTAMP:20260421T132248
DESCRIPTION:▶ Siehe Veranstaltungsbeschreibung – Stuttgart – Heinrich
  Böll Stiftung Baden-Württemberg
END:VEVENT
END:VCALENDAR
