BEGIN:VCALENDAR
VERSION:2.0
PRODID:-//ZContent.net//ZapCalLib 1.0//EN
CALSCALE:GREGORIAN
METHOD:PUBLISH
BEGIN:VEVENT
SUMMARY:Entwicklungspolitische Diskussionstage 2022 | Dreiteilige jÃ¤hrlich
 e Veranstaltungsreihe 
DTSTART:20220524T150000
DTEND:20220524T183000
UID:2026-04-23-23-07-59-0-@calendar.boell.de
DTSTAMP:20260423T210759
DESCRIPTION:â–¶ Siehe Veranstaltungsbeschreibung â€“ Berlin â€“ Heinrich-BÃ
 ¶ll-Stiftung - Bundesstiftung Berlin
END:VEVENT
END:VCALENDAR
