BEGIN:VCALENDAR
VERSION:2.0
PRODID:-//ZContent.net//ZapCalLib 1.0//EN
CALSCALE:GREGORIAN
METHOD:PUBLISH
BEGIN:VEVENT
SUMMARY:Entwicklungspolitische Diskussionstage 2022 | Dreiteilige jÃ¤hrlich
 e Veranstaltungsreihe 
DTSTART:20220524T093000
DTEND:20220525T170000
UID:2026-04-21-12-45-29-0-@calendar.boell.de
DTSTAMP:20260421T104529
DESCRIPTION:â–¶ Siehe Veranstaltungsbeschreibung â€“ Berlin â€“ Heinrich-BÃ
 ¶ll-Stiftung - Bundesstiftung Berlin
END:VEVENT
BEGIN:VEVENT
SUMMARY:Entwicklungspolitische Diskussionstage 2022 | Dreiteilige jÃ¤hrlich
 e Veranstaltungsreihe 
DTSTART:20220524T093000
DTEND:20220524T130000
UID:2026-04-21-10-45-29-1-@calendar.boell.de
DTSTAMP:20260421T104529
DESCRIPTION:â–¶ Siehe Veranstaltungsbeschreibung â€“ Berlin â€“ Heinrich-BÃ
 ¶ll-Stiftung - Bundesstiftung Berlin
END:VEVENT
BEGIN:VEVENT
SUMMARY:Entwicklungspolitische Diskussionstage 2022 | Dreiteilige jÃ¤hrlich
 e Veranstaltungsreihe 
DTSTART:20220524T150000
DTEND:20220524T183000
UID:2026-04-21-10-45-29-2-@calendar.boell.de
DTSTAMP:20260421T104529
DESCRIPTION:â–¶ Siehe Veranstaltungsbeschreibung â€“ Berlin â€“ Heinrich-BÃ
 ¶ll-Stiftung - Bundesstiftung Berlin
END:VEVENT
BEGIN:VEVENT
SUMMARY:Entwicklungspolitische Diskussionstage 2022 | Dreiteilige jÃ¤hrlich
 e Veranstaltungsreihe 
DTSTART:20220525T150000
DTEND:20220525T170000
UID:2026-04-21-10-45-29-3-@calendar.boell.de
DTSTAMP:20260421T104529
DESCRIPTION:â–¶ Siehe Veranstaltungsbeschreibung â€“ Berlin â€“ Heinrich-BÃ
 ¶ll-Stiftung - Bundesstiftung Berlin
END:VEVENT
END:VCALENDAR
