BEGIN:VCALENDAR
VERSION:2.0
PRODID:-//ZContent.net//ZapCalLib 1.0//EN
CALSCALE:GREGORIAN
METHOD:PUBLISH
BEGIN:VEVENT
SUMMARY:Grün-blaue Infrastrukturen: Auf dem Weg zur Schwammstadt | Vortrag
  und Diskussion // mit Livestream
DTSTART:20220429T160000
DTEND:20220429T180000
UID:2026-04-21-19-59-49-0-@calendar.boell.de
DTSTAMP:20260421T175949
DESCRIPTION:▶ Siehe Veranstaltungsbeschreibung – Wismar – Landesstift
 ung Mecklenburg-Vorpommern
END:VEVENT
END:VCALENDAR
