BEGIN:VCALENDAR
VERSION:2.0
PRODID:-//ZContent.net//ZapCalLib 1.0//EN
CALSCALE:GREGORIAN
METHOD:PUBLISH
BEGIN:VEVENT
SUMMARY:Wem gehört mein Dorf? | Film und Gespräch in Salzwedel
DTSTART:20220427T180000
DTEND:20220427T200000
UID:2026-04-21-11-34-19-0-@calendar.boell.de
DTSTAMP:20260421T093419
DESCRIPTION:▶ Siehe Veranstaltungsbeschreibung – Landesstiftung Sachsen
 -Anhalt
END:VEVENT
END:VCALENDAR
