BEGIN:VCALENDAR
VERSION:2.0
PRODID:-//ZContent.net//ZapCalLib 1.0//EN
CALSCALE:GREGORIAN
METHOD:PUBLISH
BEGIN:VEVENT
SUMMARY:Krieg, Klimakrise, Knappheit | Was wir jetzt über unsere Energieve
 rsorgung wissen müssen
DTSTART:20220405T200000
DTEND:20220405T210000
UID:2026-04-21-11-35-20-0-@calendar.boell.de
DTSTAMP:20260421T093520
DESCRIPTION:▶ Siehe Veranstaltungsbeschreibung – Düsseldorf – Landes
 stiftung Nordrhein-Westfalen
END:VEVENT
END:VCALENDAR
