BEGIN:VCALENDAR
VERSION:2.0
PRODID:-//ZContent.net//ZapCalLib 1.0//EN
CALSCALE:GREGORIAN
METHOD:PUBLISH
BEGIN:VEVENT
SUMMARY:Film & Gespräch „Wem gehört mein Dorf?“
DTSTART:20220430T180000
DTEND:20220430T200000
UID:2026-04-21-11-34-27-0-@calendar.boell.de
DTSTAMP:20260421T093427
DESCRIPTION:▶ Siehe Veranstaltungsbeschreibung – Rostock – Landesstif
 tung Mecklenburg-Vorpommern
END:VEVENT
END:VCALENDAR
